BEGIN:VCALENDAR
VERSION:2.0
PRODID:-//Urth - ECPv6.15.20//NONSGML v1.0//EN
CALSCALE:GREGORIAN
METHOD:PUBLISH
X-ORIGINAL-URL:https://www.urth.co.za
X-WR-CALDESC:Events for Urth
REFRESH-INTERVAL;VALUE=DURATION:PT1H
X-Robots-Tag:noindex
X-PUBLISHED-TTL:PT1H
BEGIN:VTIMEZONE
TZID:Europe/Helsinki
BEGIN:DAYLIGHT
TZOFFSETFROM:+0200
TZOFFSETTO:+0300
TZNAME:EEST
DTSTART:20220327T010000
END:DAYLIGHT
BEGIN:STANDARD
TZOFFSETFROM:+0300
TZOFFSETTO:+0200
TZNAME:EET
DTSTART:20221030T010000
END:STANDARD
BEGIN:DAYLIGHT
TZOFFSETFROM:+0200
TZOFFSETTO:+0300
TZNAME:EEST
DTSTART:20230326T010000
END:DAYLIGHT
BEGIN:STANDARD
TZOFFSETFROM:+0300
TZOFFSETTO:+0200
TZNAME:EET
DTSTART:20231029T010000
END:STANDARD
BEGIN:DAYLIGHT
TZOFFSETFROM:+0200
TZOFFSETTO:+0300
TZNAME:EEST
DTSTART:20240331T010000
END:DAYLIGHT
BEGIN:STANDARD
TZOFFSETFROM:+0300
TZOFFSETTO:+0200
TZNAME:EET
DTSTART:20241027T010000
END:STANDARD
BEGIN:DAYLIGHT
TZOFFSETFROM:+0200
TZOFFSETTO:+0300
TZNAME:EEST
DTSTART:20250330T010000
END:DAYLIGHT
BEGIN:STANDARD
TZOFFSETFROM:+0300
TZOFFSETTO:+0200
TZNAME:EET
DTSTART:20251026T010000
END:STANDARD
END:VTIMEZONE
BEGIN:VEVENT
DTSTART;TZID=Europe/Helsinki:20240808T170000
DTEND;TZID=Europe/Helsinki:20240808T220000
DTSTAMP:20260421T140240
CREATED:20240711T112323Z
LAST-MODIFIED:20240805T073108Z
UID:10000039-1723136400-1723154400@www.urth.co.za
SUMMARY:VineX - 8 August Afternoon
DESCRIPTION:PLEASE NOTE THAT THE ARNO CARSTENS TRIO SHOW HAS BEEN CANCELLED. \nTHEY ARE REGOUPING AND WILL ANNOUNCE A NEW DATE SOON. \nAS SUCH VINE’X WILL ONLY BE HOSTED ON 9 AUGUST. \nAPOLOGIES FOR ANY INCONVENIENCE
URL:https://www.urth.co.za/event/vinex-8-august/
CATEGORIES:LEARN MORE
END:VEVENT
BEGIN:VEVENT
DTSTART;TZID=Europe/Helsinki:20240313T093000
DTEND;TZID=Europe/Helsinki:20240313T113000
DTSTAMP:20260421T140240
CREATED:20240222T122953Z
LAST-MODIFIED:20240222T125246Z
UID:10000032-1710322200-1710329400@www.urth.co.za
SUMMARY:SACBW - Network Session
DESCRIPTION:Join the South African Council of Business Woman Bloemfontein branch and connect with like-minded businesswomen / entrepreneurs. Be inspired and motivated by our special guest speaker.  Light lunch included \n\nReserve your seat  on the SACBW website\nJOIN AS NEW MEMBER\nOr if you just want to stay informed of new events: join the WhatsApp Information Channel
URL:https://www.urth.co.za/event/sacbw-network-session/
LOCATION:Urth\, Urth\, Bloemfontein\, Free State\, 9302\, South Africa
CATEGORIES:LEARN MORE
END:VEVENT
BEGIN:VEVENT
DTSTART;TZID=Europe/Helsinki:20230930T100000
DTEND;TZID=Europe/Helsinki:20230930T140000
DTSTAMP:20260421T140240
CREATED:20230814T153530Z
LAST-MODIFIED:20230924T171145Z
UID:10000017-1696068000-1696082400@www.urth.co.za
SUMMARY:PLANT INDIGENOUS / PLANT INHEEMS
DESCRIPTION:Join us for an informational morning with Babs.  Learn more about which indigenous plants really work in Bloemfontein.  And what is better alternatives to some of the well-known exotic plants. \nLeer by Babs watter inheemse plante regtig in Bloemfontein werk.  Also which indigenous plant is good choice to replace old exotic favourites. \nCoffee / Tea and eats available at restaurant for purchase after the talk. \nLanguage: Afrikaans AND English
URL:https://www.urth.co.za/event/plant-indigenous-plant-inheems/
LOCATION:Urth\, Urth\, Bloemfontein\, Free State\, 9302\, South Africa
CATEGORIES:LEARN MORE
ATTACH;FMTTYPE=image/png:https://www.urth.co.za/wp-content/uploads/2023/08/WORKSHOPS-4.png
ORGANIZER;CN="Urth":MAILTO:welcome@urth.co.za
END:VEVENT
END:VCALENDAR